BEGIN:VCALENDAR
VERSION:2.0
PRODID:-//Goldgrube//myauktion.com//AT
CALSCALE:GREGORIAN
BEGIN:VEVENT
DTSTART:20260508T094000
DTEND:20260508T094030
LOCATION:Gewerbepark 13, 8562 Mooskirchen
DTSTAMP:20260424T180140
SUMMARY:MyAuktion: Ablauf Artikel Nr. 957720 Persil Expert Sensitive 1.35l 
URL;VALUE=URI:https://www.myauktion.com/versteigerung7671-position2446214-persil-expert-sensitive-135l.php
DESCRIPTION:
UID:myauktion-7671-2446214
BEGIN:VALARM
ACTION:DISPLAY
DESCRIPTION:
TRIGGER:-PT10M
END:VALARM
END:VEVENT
END:VCALENDAR