BEGIN:VCALENDAR
VERSION:2.0
PRODID:-//Goldgrube//myauktion.com//AT
CALSCALE:GREGORIAN
BEGIN:VEVENT
DTSTART:20260508T094400
DTEND:20260508T094430
LOCATION:Gewerbepark 13, 8562 Mooskirchen
DTSTAMP:20260425T015247
SUMMARY:MyAuktion: Ablauf Artikel Nr. 957721 Fresh Weichspüler Frischeduft 2l 
URL;VALUE=URI:https://www.myauktion.com/versteigerung7671-position2446216-fresh-weichspueler-frischeduft-2l.php
DESCRIPTION:
UID:myauktion-7671-2446216
BEGIN:VALARM
ACTION:DISPLAY
DESCRIPTION:
TRIGGER:-PT10M
END:VALARM
END:VEVENT
END:VCALENDAR