BEGIN:VCALENDAR
VERSION:2.0
PRODID:-//Goldgrube//myauktion.com//AT
CALSCALE:GREGORIAN
BEGIN:VEVENT
DTSTART:20260508T095500
DTEND:20260508T095530
LOCATION:Gewerbepark 13, 8562 Mooskirchen
DTSTAMP:20260424T180145
SUMMARY:MyAuktion: Ablauf Artikel Nr. 957731 Flui Tect Smoke Fluid 5l
URL;VALUE=URI:https://www.myauktion.com/versteigerung7671-position2446222-flui-tect-smoke-fluid-5l.php
DESCRIPTION:
UID:myauktion-7671-2446222
BEGIN:VALARM
ACTION:DISPLAY
DESCRIPTION:
TRIGGER:-PT10M
END:VALARM
END:VEVENT
END:VCALENDAR