BEGIN:VCALENDAR
VERSION:2.0
PRODID:-//Goldgrube//myauktion.com//AT
CALSCALE:GREGORIAN
BEGIN:VEVENT
DTSTART:20260508T110000
DTEND:20260508T110030
LOCATION:Gewerbepark 13, 8562 Mooskirchen
DTSTAMP:20260425T015245
SUMMARY:MyAuktion: Ablauf Artikel Nr. 957993 Silan Sensitive 2860ml 
URL;VALUE=URI:https://www.myauktion.com/versteigerung7671-position2446223-silan-sensitive-2860ml.php
DESCRIPTION:
UID:myauktion-7671-2446223
BEGIN:VALARM
ACTION:DISPLAY
DESCRIPTION:
TRIGGER:-PT10M
END:VALARM
END:VEVENT
END:VCALENDAR