BEGIN:VCALENDAR
VERSION:2.0
PRODID:-//Goldgrube//myauktion.com//AT
CALSCALE:GREGORIAN
BEGIN:VEVENT
DTSTART:20260508T110800
DTEND:20260508T110830
LOCATION:Gewerbepark 13, 8562 Mooskirchen
DTSTAMP:20260424T160256
SUMMARY:MyAuktion: Ablauf Artikel Nr. 957999 Persil Expert XXL 2,7l 
URL;VALUE=URI:https://www.myauktion.com/versteigerung7671-position2446226-persil-expert-xxl-27l.php
DESCRIPTION:
UID:myauktion-7671-2446226
BEGIN:VALARM
ACTION:DISPLAY
DESCRIPTION:
TRIGGER:-PT10M
END:VALARM
END:VEVENT
END:VCALENDAR