BEGIN:VCALENDAR
VERSION:2.0
PRODID:-//Goldgrube//myauktion.com//AT
CALSCALE:GREGORIAN
BEGIN:VEVENT
DTSTART:20260508T122500
DTEND:20260508T122530
LOCATION:Gewerbepark 13, 8562 Mooskirchen
DTSTAMP:20260424T165431
SUMMARY:MyAuktion: Ablauf Artikel Nr. 958276 Vexil Rohr Reiniger Power Konzentrat 1L
URL;VALUE=URI:https://www.myauktion.com/versteigerung7671-position2446229-vexil-rohr-reiniger-power-konzentrat-1l.php
DESCRIPTION:
UID:myauktion-7671-2446229
BEGIN:VALARM
ACTION:DISPLAY
DESCRIPTION:
TRIGGER:-PT10M
END:VALARM
END:VEVENT
END:VCALENDAR