BEGIN:VCALENDAR
VERSION:2.0
PRODID:-//Goldgrube//myauktion.com//AT
CALSCALE:GREGORIAN
BEGIN:VEVENT
DTSTART:20260508T134500
DTEND:20260508T134530
LOCATION:Gewerbepark 13, 8562 Mooskirchen
DTSTAMP:20260424T222209
SUMMARY:MyAuktion: Ablauf Artikel Nr. 958524 ABX Lysebio 0,4L
URL;VALUE=URI:https://www.myauktion.com/versteigerung7671-position2446233-abx-lysebio-04l.php
DESCRIPTION:MHD: 29.12.2026
UID:myauktion-7671-2446233
BEGIN:VALARM
ACTION:DISPLAY
DESCRIPTION:MHD: 29.12.2026
TRIGGER:-PT10M
END:VALARM
END:VEVENT
END:VCALENDAR