BEGIN:VCALENDAR
VERSION:2.0
PRODID:-//Goldgrube//myauktion.com//AT
CALSCALE:GREGORIAN
BEGIN:VEVENT
DTSTART:20260508T090900
DTEND:20260508T090930
LOCATION:Gewerbepark 13, 8562 Mooskirchen
DTSTAMP:20260425T015247
SUMMARY:MyAuktion: Ablauf Artikel Nr. 957700 Exakt Antikalk Entkalker 1l
URL;VALUE=URI:https://www.myauktion.com/versteigerung7671-position2446241-exakt-antikalk-entkalker-1l.php
DESCRIPTION:
UID:myauktion-7671-2446241
BEGIN:VALARM
ACTION:DISPLAY
DESCRIPTION:
TRIGGER:-PT10M
END:VALARM
END:VEVENT
END:VCALENDAR