BEGIN:VCALENDAR
VERSION:2.0
PRODID:-//Goldgrube//myauktion.com//AT
CALSCALE:GREGORIAN
BEGIN:VEVENT
DTSTART:20260508T132300
DTEND:20260508T132330
LOCATION:Gewerbepark 13, 8562 Mooskirchen
DTSTAMP:20260424T222207
SUMMARY:MyAuktion: Ablauf Artikel Nr. 958504 ABX Basolys II 1L
URL;VALUE=URI:https://www.myauktion.com/versteigerung7671-position2446248-abx-basolys-ii-1l.php
DESCRIPTION:MHD: 05.12.2026
UID:myauktion-7671-2446248
BEGIN:VALARM
ACTION:DISPLAY
DESCRIPTION:MHD: 05.12.2026
TRIGGER:-PT10M
END:VALARM
END:VEVENT
END:VCALENDAR