BEGIN:VCALENDAR
VERSION:2.0
PRODID:-//Goldgrube//myauktion.com//AT
CALSCALE:GREGORIAN
BEGIN:VEVENT
DTSTART:20260508T122900
DTEND:20260508T122930
LOCATION:Gewerbepark 13, 8562 Mooskirchen
DTSTAMP:20260424T165430
SUMMARY:MyAuktion: Ablauf Artikel Nr. 958277 Hc Isopropanol 99% 1L 
URL;VALUE=URI:https://www.myauktion.com/versteigerung7671-position2446250-hc-isopropanol-99-1l.php
DESCRIPTION:
UID:myauktion-7671-2446250
BEGIN:VALARM
ACTION:DISPLAY
DESCRIPTION:
TRIGGER:-PT10M
END:VALARM
END:VEVENT
END:VCALENDAR