BEGIN:VCALENDAR
VERSION:2.0
PRODID:-//Goldgrube//myauktion.com//AT
CALSCALE:GREGORIAN
BEGIN:VEVENT
DTSTART:20260506T103400
DTEND:20260506T103430
LOCATION:Gewerbepark 13, 8562 Mooskirchen
DTSTAMP:20260423T153059
SUMMARY:MyAuktion: Ablauf Artikel Nr. 441641 Diverse Zubehör 
URL;VALUE=URI:https://www.myauktion.com/versteigerung7661-position2446258-diverse-zubehoer.php
DESCRIPTION:Keine weiteren Daten ersichtlich
UID:myauktion-7661-2446258
BEGIN:VALARM
ACTION:DISPLAY
DESCRIPTION:Keine weiteren Daten ersichtlich
TRIGGER:-PT10M
END:VALARM
END:VEVENT
END:VCALENDAR