BEGIN:VCALENDAR
VERSION:2.0
PRODID:-//Goldgrube//myauktion.com//AT
CALSCALE:GREGORIAN
BEGIN:VEVENT
DTSTART:20260506T090100
DTEND:20260506T090130
LOCATION:Gewerbepark 13, 8562 Mooskirchen
DTSTAMP:20260423T124241
SUMMARY:MyAuktion: Ablauf Artikel Nr. 441263 Kleine Wolke Winkelstange 90x90cm 
URL;VALUE=URI:https://www.myauktion.com/versteigerung7661-position2446261-kleine-wolke-winkelstange-90x90cm.php
DESCRIPTION:
UID:myauktion-7661-2446261
BEGIN:VALARM
ACTION:DISPLAY
DESCRIPTION:
TRIGGER:-PT10M
END:VALARM
END:VEVENT
END:VCALENDAR