BEGIN:VCALENDAR
VERSION:2.0
PRODID:-//Goldgrube//myauktion.com//AT
CALSCALE:GREGORIAN
BEGIN:VEVENT
DTSTART:20260506T102500
DTEND:20260506T102530
LOCATION:Gewerbepark 13, 8562 Mooskirchen
DTSTAMP:20260423T153103
SUMMARY:MyAuktion: Ablauf Artikel Nr. 441379 Wd Swing Chair lo_B 49025.B
URL;VALUE=URI:https://www.myauktion.com/versteigerung7661-position2446262-wd-swing-chair-lo_b-49025b.php
DESCRIPTION:<div>Ca. 170cm, Vollständigkeit laut Fotos</div>
UID:myauktion-7661-2446262
BEGIN:VALARM
ACTION:DISPLAY
DESCRIPTION:<div>Ca. 170cm, Vollständigkeit laut Fotos</div>
TRIGGER:-PT10M
END:VALARM
END:VEVENT
END:VCALENDAR