BEGIN:VCALENDAR
VERSION:2.0
PRODID:-//Goldgrube//myauktion.com//AT
CALSCALE:GREGORIAN
BEGIN:VEVENT
DTSTART:20260506T103700
DTEND:20260506T103730
LOCATION:Gewerbepark 13, 8562 Mooskirchen
DTSTAMP:20260423T153105
SUMMARY:MyAuktion: Ablauf Artikel Nr. 441648 Vivaplanca Deckel mit Griff ca. 68x36cm 
URL;VALUE=URI:https://www.myauktion.com/versteigerung7661-position2446263-vivaplanca-deckel-mit-griff-ca-68x36cm.php
DESCRIPTION:
UID:myauktion-7661-2446263
BEGIN:VALARM
ACTION:DISPLAY
DESCRIPTION:
TRIGGER:-PT10M
END:VALARM
END:VEVENT
END:VCALENDAR