BEGIN:VCALENDAR
VERSION:2.0
PRODID:-//Goldgrube//myauktion.com//AT
CALSCALE:GREGORIAN
BEGIN:VEVENT
DTSTART:20260506T090300
DTEND:20260506T090330
LOCATION:Gewerbepark 13, 8562 Mooskirchen
DTSTAMP:20260423T124238
SUMMARY:MyAuktion: Ablauf Artikel Nr. 441271 Conel HBP Turbo X160mm 
URL;VALUE=URI:https://www.myauktion.com/versteigerung7661-position2446267-conel-hbp-turbo-x160mm.php
DESCRIPTION:
UID:myauktion-7661-2446267
BEGIN:VALARM
ACTION:DISPLAY
DESCRIPTION:
TRIGGER:-PT10M
END:VALARM
END:VEVENT
END:VCALENDAR