BEGIN:VCALENDAR
VERSION:2.0
PRODID:-//Goldgrube//myauktion.com//AT
CALSCALE:GREGORIAN
BEGIN:VEVENT
DTSTART:20260506T090800
DTEND:20260506T090830
LOCATION:Gewerbepark 13, 8562 Mooskirchen
DTSTAMP:20260423T124242
SUMMARY:MyAuktion: Ablauf Artikel Nr. 441273 Sunoptic Acetate Frame AM70E 
URL;VALUE=URI:https://www.myauktion.com/versteigerung7661-position2446271-sunoptic-acetate-frame-am70e.php
DESCRIPTION:Shiny Grey
UID:myauktion-7661-2446271
BEGIN:VALARM
ACTION:DISPLAY
DESCRIPTION:Shiny Grey
TRIGGER:-PT10M
END:VALARM
END:VEVENT
END:VCALENDAR