BEGIN:VCALENDAR
VERSION:2.0
PRODID:-//Goldgrube//myauktion.com//AT
CALSCALE:GREGORIAN
BEGIN:VEVENT
DTSTART:20260506T102700
DTEND:20260506T102730
LOCATION:Gewerbepark 13, 8562 Mooskirchen
DTSTAMP:20260423T153052
SUMMARY:MyAuktion: Ablauf Artikel Nr. 441388 Kopp Isolierrohr  Starr mit Muffe M32 2m 19stk
URL;VALUE=URI:https://www.myauktion.com/versteigerung7661-position2446272-kopp-isolierrohr-starr-mit-muffe-m32-2m-19stk.php
DESCRIPTION:
UID:myauktion-7661-2446272
BEGIN:VALARM
ACTION:DISPLAY
DESCRIPTION:
TRIGGER:-PT10M
END:VALARM
END:VEVENT
END:VCALENDAR