BEGIN:VCALENDAR
VERSION:2.0
PRODID:-//Goldgrube//myauktion.com//AT
CALSCALE:GREGORIAN
BEGIN:VEVENT
DTSTART:20260506T091100
DTEND:20260506T091130
LOCATION:Gewerbepark 13, 8562 Mooskirchen
DTSTAMP:20260423T124242
SUMMARY:MyAuktion: Ablauf Artikel Nr. 441278 Gehäuse von Serverschrank 228-9428
URL;VALUE=URI:https://www.myauktion.com/versteigerung7661-position2446277-gehaeuse-von-serverschrank-228-9428.php
DESCRIPTION:
UID:myauktion-7661-2446277
BEGIN:VALARM
ACTION:DISPLAY
DESCRIPTION:
TRIGGER:-PT10M
END:VALARM
END:VEVENT
END:VCALENDAR