BEGIN:VCALENDAR
VERSION:2.0
PRODID:-//Goldgrube//myauktion.com//AT
CALSCALE:GREGORIAN
BEGIN:VEVENT
DTSTART:20260506T103800
DTEND:20260506T103830
LOCATION:Gewerbepark 13, 8562 Mooskirchen
DTSTAMP:20260423T165939
SUMMARY:MyAuktion: Ablauf Artikel Nr. 441671 Vaillant Conversion Kit 0010039882 
URL;VALUE=URI:https://www.myauktion.com/versteigerung7661-position2446278-vaillant-conversion-kit-0010039882.php
DESCRIPTION:
UID:myauktion-7661-2446278
BEGIN:VALARM
ACTION:DISPLAY
DESCRIPTION:
TRIGGER:-PT10M
END:VALARM
END:VEVENT
END:VCALENDAR