BEGIN:VCALENDAR
VERSION:2.0
PRODID:-//Goldgrube//myauktion.com//AT
CALSCALE:GREGORIAN
BEGIN:VEVENT
DTSTART:20260506T103000
DTEND:20260506T103030
LOCATION:Gewerbepark 13, 8562 Mooskirchen
DTSTAMP:20260423T153051
SUMMARY:MyAuktion: Ablauf Artikel Nr. 441393 Lagergehäuse NBR 4021 Casting Stee 
URL;VALUE=URI:https://www.myauktion.com/versteigerung7661-position2446279-lagergehaeuse-nbr-4021-casting-stee.php
DESCRIPTION:
UID:myauktion-7661-2446279
BEGIN:VALARM
ACTION:DISPLAY
DESCRIPTION:
TRIGGER:-PT10M
END:VALARM
END:VEVENT
END:VCALENDAR