BEGIN:VCALENDAR
VERSION:2.0
PRODID:-//Goldgrube//myauktion.com//AT
CALSCALE:GREGORIAN
BEGIN:VEVENT
DTSTART:20260506T110400
DTEND:20260506T110430
LOCATION:Gewerbepark 13, 8562 Mooskirchen
DTSTAMP:20260423T153052
SUMMARY:MyAuktion: Ablauf Artikel Nr. 441673 Homedeluxe Sonnendach Aquasun 
URL;VALUE=URI:https://www.myauktion.com/versteigerung7661-position2446305-homedeluxe-sonnendach-aquasun.php
DESCRIPTION:
UID:myauktion-7661-2446305
BEGIN:VALARM
ACTION:DISPLAY
DESCRIPTION:
TRIGGER:-PT10M
END:VALARM
END:VEVENT
END:VCALENDAR