BEGIN:VCALENDAR
VERSION:2.0
PRODID:-//Goldgrube//myauktion.com//AT
CALSCALE:GREGORIAN
BEGIN:VEVENT
DTSTART:20260506T091200
DTEND:20260506T091230
LOCATION:Gewerbepark 13, 8562 Mooskirchen
DTSTAMP:20260423T124240
SUMMARY:MyAuktion: Ablauf Artikel Nr. 441284 Kupplungsscheiben 
URL;VALUE=URI:https://www.myauktion.com/versteigerung7661-position2446306-kupplungsscheiben.php
DESCRIPTION:Anzahl unbekannt 
UID:myauktion-7661-2446306
BEGIN:VALARM
ACTION:DISPLAY
DESCRIPTION:Anzahl unbekannt 
TRIGGER:-PT10M
END:VALARM
END:VEVENT
END:VCALENDAR