BEGIN:VCALENDAR
VERSION:2.0
PRODID:-//Goldgrube//myauktion.com//AT
CALSCALE:GREGORIAN
BEGIN:VEVENT
DTSTART:20260506T091300
DTEND:20260506T091330
LOCATION:Gewerbepark 13, 8562 Mooskirchen
DTSTAMP:20260423T124241
SUMMARY:MyAuktion: Ablauf Artikel Nr. 441285 Vidaxl AGA Desk 6dw 041mc_A 849858.A
URL;VALUE=URI:https://www.myauktion.com/versteigerung7661-position2446307-vidaxl-aga-desk-6dw-041mc_a-849858a.php
DESCRIPTION:Schwarz, Keine weiteren Daten ersichtlich 
UID:myauktion-7661-2446307
BEGIN:VALARM
ACTION:DISPLAY
DESCRIPTION:Schwarz, Keine weiteren Daten ersichtlich 
TRIGGER:-PT10M
END:VALARM
END:VEVENT
END:VCALENDAR