BEGIN:VCALENDAR
VERSION:2.0
PRODID:-//Goldgrube//myauktion.com//AT
CALSCALE:GREGORIAN
BEGIN:VEVENT
DTSTART:20260506T091400
DTEND:20260506T091430
LOCATION:Gewerbepark 13, 8562 Mooskirchen
DTSTAMP:20260423T124239
SUMMARY:MyAuktion: Ablauf Artikel Nr. 441286 Leitz Archiv-Schachtel A4 10Stk
URL;VALUE=URI:https://www.myauktion.com/versteigerung7661-position2446308-leitz-archiv-schachtel-a4-10stk.php
DESCRIPTION:
UID:myauktion-7661-2446308
BEGIN:VALARM
ACTION:DISPLAY
DESCRIPTION:
TRIGGER:-PT10M
END:VALARM
END:VEVENT
END:VCALENDAR