BEGIN:VCALENDAR
VERSION:2.0
PRODID:-//Goldgrube//myauktion.com//AT
CALSCALE:GREGORIAN
BEGIN:VEVENT
DTSTART:20260506T091500
DTEND:20260506T091530
LOCATION:Gewerbepark 13, 8562 Mooskirchen
DTSTAMP:20260423T124238
SUMMARY:MyAuktion: Ablauf Artikel Nr. 441288 Nordrive Befestigungsfüße N30143
URL;VALUE=URI:https://www.myauktion.com/versteigerung7661-position2446309-nordrive-befestigungsfuesse-n30143.php
DESCRIPTION:
UID:myauktion-7661-2446309
BEGIN:VALARM
ACTION:DISPLAY
DESCRIPTION:
TRIGGER:-PT10M
END:VALARM
END:VEVENT
END:VCALENDAR