BEGIN:VCALENDAR
VERSION:2.0
PRODID:-//Goldgrube//myauktion.com//AT
CALSCALE:GREGORIAN
BEGIN:VEVENT
DTSTART:20260506T091600
DTEND:20260506T091630
LOCATION:Gewerbepark 13, 8562 Mooskirchen
DTSTAMP:20260423T124235
SUMMARY:MyAuktion: Ablauf Artikel Nr. 441289 Nordrive Kargosteel 180cm N10015
URL;VALUE=URI:https://www.myauktion.com/versteigerung7661-position2446311-nordrive-kargosteel-180cm-n10015.php
DESCRIPTION:
UID:myauktion-7661-2446311
BEGIN:VALARM
ACTION:DISPLAY
DESCRIPTION:
TRIGGER:-PT10M
END:VALARM
END:VEVENT
END:VCALENDAR