BEGIN:VCALENDAR
VERSION:2.0
PRODID:-//Goldgrube//myauktion.com//AT
CALSCALE:GREGORIAN
BEGIN:VEVENT
DTSTART:20260506T110500
DTEND:20260506T110530
LOCATION:Gewerbepark 13, 8562 Mooskirchen
DTSTAMP:20260423T153051
SUMMARY:MyAuktion: Ablauf Artikel Nr. 441681 Karton Kantenschutzleisten ca. 150cm 
URL;VALUE=URI:https://www.myauktion.com/versteigerung7661-position2446312-karton-kantenschutzleisten-ca-150cm.php
DESCRIPTION:
UID:myauktion-7661-2446312
BEGIN:VALARM
ACTION:DISPLAY
DESCRIPTION:
TRIGGER:-PT10M
END:VALARM
END:VEVENT
END:VCALENDAR