BEGIN:VCALENDAR
VERSION:2.0
PRODID:-//Goldgrube//myauktion.com//AT
CALSCALE:GREGORIAN
BEGIN:VEVENT
DTSTART:20260506T091700
DTEND:20260506T091730
LOCATION:Gewerbepark 13, 8562 Mooskirchen
DTSTAMP:20260423T124238
SUMMARY:MyAuktion: Ablauf Artikel Nr. 441291 Solarride Opel Adam (2012-2019) Adam KPL 
URL;VALUE=URI:https://www.myauktion.com/versteigerung7661-position2446329-solarride-opel-adam-2012-2019-adam-kpl.php
DESCRIPTION:
UID:myauktion-7661-2446329
BEGIN:VALARM
ACTION:DISPLAY
DESCRIPTION:
TRIGGER:-PT10M
END:VALARM
END:VEVENT
END:VCALENDAR