BEGIN:VCALENDAR
VERSION:2.0
PRODID:-//Goldgrube//myauktion.com//AT
CALSCALE:GREGORIAN
BEGIN:VEVENT
DTSTART:20260506T091800
DTEND:20260506T091830
LOCATION:Gewerbepark 13, 8562 Mooskirchen
DTSTAMP:20260423T124235
SUMMARY:MyAuktion: Ablauf Artikel Nr. 441292 SDF Parts Windschutzscheibe 04352848
URL;VALUE=URI:https://www.myauktion.com/versteigerung7661-position2446330-sdf-parts-windschutzscheibe-04352848.php
DESCRIPTION:
UID:myauktion-7661-2446330
BEGIN:VALARM
ACTION:DISPLAY
DESCRIPTION:
TRIGGER:-PT10M
END:VALARM
END:VEVENT
END:VCALENDAR