BEGIN:VCALENDAR
VERSION:2.0
PRODID:-//Goldgrube//myauktion.com//AT
CALSCALE:GREGORIAN
BEGIN:VEVENT
DTSTART:20260506T091900
DTEND:20260506T091930
LOCATION:Gewerbepark 13, 8562 Mooskirchen
DTSTAMP:20260423T124243
SUMMARY:MyAuktion: Ablauf Artikel Nr. 441294 Kuhn Wurfflügelsatz AL-C+AR-C  R4021245
URL;VALUE=URI:https://www.myauktion.com/versteigerung7661-position2446331-kuhn-wurffluegelsatz-al-c-ar-c-r4021245.php
DESCRIPTION:
UID:myauktion-7661-2446331
BEGIN:VALARM
ACTION:DISPLAY
DESCRIPTION:
TRIGGER:-PT10M
END:VALARM
END:VEVENT
END:VCALENDAR