BEGIN:VCALENDAR
VERSION:2.0
PRODID:-//Goldgrube//myauktion.com//AT
CALSCALE:GREGORIAN
BEGIN:VEVENT
DTSTART:20260506T092100
DTEND:20260506T092130
LOCATION:Gewerbepark 13, 8562 Mooskirchen
DTSTAMP:20260423T124240
SUMMARY:MyAuktion: Ablauf Artikel Nr. 441296 Kuhn Wurfflügelsatz AL-C +AR-C R4021245
URL;VALUE=URI:https://www.myauktion.com/versteigerung7661-position2446334-kuhn-wurffluegelsatz-al-c-ar-c-r4021245.php
DESCRIPTION:
UID:myauktion-7661-2446334
BEGIN:VALARM
ACTION:DISPLAY
DESCRIPTION:
TRIGGER:-PT10M
END:VALARM
END:VEVENT
END:VCALENDAR