BEGIN:VCALENDAR
VERSION:2.0
PRODID:-//Goldgrube//myauktion.com//AT
CALSCALE:GREGORIAN
BEGIN:VEVENT
DTSTART:20260506T092200
DTEND:20260506T092230
LOCATION:Gewerbepark 13, 8562 Mooskirchen
DTSTAMP:20260423T124238
SUMMARY:MyAuktion: Ablauf Artikel Nr. 441297 Tonitec Langschildgarnitur Amy PZ Brüniert 302 1704
URL;VALUE=URI:https://www.myauktion.com/versteigerung7661-position2446335-tonitec-langschildgarnitur-amy-pz-brueniert-302-1704.php
DESCRIPTION:
UID:myauktion-7661-2446335
BEGIN:VALARM
ACTION:DISPLAY
DESCRIPTION:
TRIGGER:-PT10M
END:VALARM
END:VEVENT
END:VCALENDAR