BEGIN:VCALENDAR
VERSION:2.0
PRODID:-//Goldgrube//myauktion.com//AT
CALSCALE:GREGORIAN
BEGIN:VEVENT
DTSTART:20260506T112200
DTEND:20260506T112230
LOCATION:Gewerbepark 13, 8562 Mooskirchen
DTSTAMP:20260423T153056
SUMMARY:MyAuktion: Ablauf Artikel Nr. 441690 Lindby Deckenlampe 9621039 
URL;VALUE=URI:https://www.myauktion.com/versteigerung7661-position2446336-lindby-deckenlampe-9621039.php
DESCRIPTION:
UID:myauktion-7661-2446336
BEGIN:VALARM
ACTION:DISPLAY
DESCRIPTION:
TRIGGER:-PT10M
END:VALARM
END:VEVENT
END:VCALENDAR