BEGIN:VCALENDAR
VERSION:2.0
PRODID:-//Goldgrube//myauktion.com//AT
CALSCALE:GREGORIAN
BEGIN:VEVENT
DTSTART:20260506T092300
DTEND:20260506T092330
LOCATION:Gewerbepark 13, 8562 Mooskirchen
DTSTAMP:20260423T124242
SUMMARY:MyAuktion: Ablauf Artikel Nr. 441298 Doppelte Mülleimer mit Deckel
URL;VALUE=URI:https://www.myauktion.com/versteigerung7661-position2446337-doppelte-muelleimer-mit-deckel.php
DESCRIPTION:Einer hat ca 50x30cm
UID:myauktion-7661-2446337
BEGIN:VALARM
ACTION:DISPLAY
DESCRIPTION:Einer hat ca 50x30cm
TRIGGER:-PT10M
END:VALARM
END:VEVENT
END:VCALENDAR