BEGIN:VCALENDAR
VERSION:2.0
PRODID:-//Goldgrube//myauktion.com//AT
CALSCALE:GREGORIAN
BEGIN:VEVENT
DTSTART:20260506T092500
DTEND:20260506T092530
LOCATION:Gewerbepark 13, 8562 Mooskirchen
DTSTAMP:20260423T124239
SUMMARY:MyAuktion: Ablauf Artikel Nr. 441302 BSH Displaymodul für Geschirrspüler 10026339
URL;VALUE=URI:https://www.myauktion.com/versteigerung7661-position2446340-bsh-displaymodul-fuer-geschirrspueler-10026339.php
DESCRIPTION:
UID:myauktion-7661-2446340
BEGIN:VALARM
ACTION:DISPLAY
DESCRIPTION:
TRIGGER:-PT10M
END:VALARM
END:VEVENT
END:VCALENDAR