BEGIN:VCALENDAR
VERSION:2.0
PRODID:-//Goldgrube//myauktion.com//AT
CALSCALE:GREGORIAN
BEGIN:VEVENT
DTSTART:20260506T113200
DTEND:20260506T113230
LOCATION:Gewerbepark 13, 8562 Mooskirchen
DTSTAMP:20260423T153050
SUMMARY:MyAuktion: Ablauf Artikel Nr. 441694 Med Comfort Klipphauben medium blau 100Stk 
URL;VALUE=URI:https://www.myauktion.com/versteigerung7661-position2446350-med-comfort-klipphauben-medium-blau-100stk.php
DESCRIPTION:MHD 01.2025 
UID:myauktion-7661-2446350
BEGIN:VALARM
ACTION:DISPLAY
DESCRIPTION:MHD 01.2025 
TRIGGER:-PT10M
END:VALARM
END:VEVENT
END:VCALENDAR