BEGIN:VCALENDAR
VERSION:2.0
PRODID:-//Goldgrube//myauktion.com//AT
CALSCALE:GREGORIAN
BEGIN:VEVENT
DTSTART:20260506T114100
DTEND:20260506T114130
LOCATION:Gewerbepark 13, 8562 Mooskirchen
DTSTAMP:20260423T153104
SUMMARY:MyAuktion: Ablauf Artikel Nr. 441696 Helukabel Verschraubung 13-18mm 25Stk 90315 
URL;VALUE=URI:https://www.myauktion.com/versteigerung7661-position2446360-helukabel-verschraubung-13-18mm-25stk-90315.php
DESCRIPTION:
UID:myauktion-7661-2446360
BEGIN:VALARM
ACTION:DISPLAY
DESCRIPTION:
TRIGGER:-PT10M
END:VALARM
END:VEVENT
END:VCALENDAR