BEGIN:VCALENDAR
VERSION:2.0
PRODID:-//Goldgrube//myauktion.com//AT
CALSCALE:GREGORIAN
BEGIN:VEVENT
DTSTART:20260506T114300
DTEND:20260506T114330
LOCATION:Gewerbepark 13, 8562 Mooskirchen
DTSTAMP:20260423T153049
SUMMARY:MyAuktion: Ablauf Artikel Nr. 441701 Watson Male One 30Tagesportionen 
URL;VALUE=URI:https://www.myauktion.com/versteigerung7661-position2446363-watson-male-one-30tagesportionen.php
DESCRIPTION:MHD 14.05.2027 
UID:myauktion-7661-2446363
BEGIN:VALARM
ACTION:DISPLAY
DESCRIPTION:MHD 14.05.2027 
TRIGGER:-PT10M
END:VALARM
END:VEVENT
END:VCALENDAR