BEGIN:VCALENDAR
VERSION:2.0
PRODID:-//Goldgrube//myauktion.com//AT
CALSCALE:GREGORIAN
BEGIN:VEVENT
DTSTART:20260506T092800
DTEND:20260506T092830
LOCATION:Gewerbepark 13, 8562 Mooskirchen
DTSTAMP:20260423T124235
SUMMARY:MyAuktion: Ablauf Artikel Nr. 441308 Idimex Kaktus Kleiderständer schwarz  15820
URL;VALUE=URI:https://www.myauktion.com/versteigerung7661-position2446364-idimex-kaktus-kleiderstaender-schwarz-15820.php
DESCRIPTION:
UID:myauktion-7661-2446364
BEGIN:VALARM
ACTION:DISPLAY
DESCRIPTION:
TRIGGER:-PT10M
END:VALARM
END:VEVENT
END:VCALENDAR