BEGIN:VCALENDAR
VERSION:2.0
PRODID:-//Goldgrube//myauktion.com//AT
CALSCALE:GREGORIAN
BEGIN:VEVENT
DTSTART:20260506T092900
DTEND:20260506T092930
LOCATION:Gewerbepark 13, 8562 Mooskirchen
DTSTAMP:20260423T124235
SUMMARY:MyAuktion: Ablauf Artikel Nr. 441310 TPT-0700 Würfel Marco 20 1004132 M-02-KB
URL;VALUE=URI:https://www.myauktion.com/versteigerung7661-position2446365-tpt-0700-wuerfel-marco-20-1004132-m-02-kb.php
DESCRIPTION:Kernbuche massiv, Paket vollständig 
UID:myauktion-7661-2446365
BEGIN:VALARM
ACTION:DISPLAY
DESCRIPTION:Kernbuche massiv, Paket vollständig 
TRIGGER:-PT10M
END:VALARM
END:VEVENT
END:VCALENDAR