BEGIN:VCALENDAR
VERSION:2.0
PRODID:-//Goldgrube//myauktion.com//AT
CALSCALE:GREGORIAN
BEGIN:VEVENT
DTSTART:20260506T093000
DTEND:20260506T093030
LOCATION:Gewerbepark 13, 8562 Mooskirchen
DTSTAMP:20260423T124243
SUMMARY:MyAuktion: Ablauf Artikel Nr. 441311 TECNOPRO Sting Langlaufstock ca 135cm
URL;VALUE=URI:https://www.myauktion.com/versteigerung7661-position2446366-tecnopro-sting-langlaufstock-ca-135cm.php
DESCRIPTION:Gebraucht 
UID:myauktion-7661-2446366
BEGIN:VALARM
ACTION:DISPLAY
DESCRIPTION:Gebraucht 
TRIGGER:-PT10M
END:VALARM
END:VEVENT
END:VCALENDAR