BEGIN:VCALENDAR
VERSION:2.0
PRODID:-//Goldgrube//myauktion.com//AT
CALSCALE:GREGORIAN
BEGIN:VEVENT
DTSTART:20260506T100200
DTEND:20260506T100230
LOCATION:Gewerbepark 13, 8562 Mooskirchen
DTSTAMP:20260423T153050
SUMMARY:MyAuktion: Ablauf Artikel Nr. 441312 Gretsch Unitas Drehgriff Dirigent - F/Z
URL;VALUE=URI:https://www.myauktion.com/versteigerung7661-position2446383-gretsch-unitas-drehgriff-dirigent-f-z.php
DESCRIPTION:
UID:myauktion-7661-2446383
BEGIN:VALARM
ACTION:DISPLAY
DESCRIPTION:
TRIGGER:-PT10M
END:VALARM
END:VEVENT
END:VCALENDAR