BEGIN:VCALENDAR
VERSION:2.0
PRODID:-//Goldgrube//myauktion.com//AT
CALSCALE:GREGORIAN
BEGIN:VEVENT
DTSTART:20260506T101700
DTEND:20260506T101730
LOCATION:Gewerbepark 13, 8562 Mooskirchen
DTSTAMP:20260423T153104
SUMMARY:MyAuktion: Ablauf Artikel Nr. 441313 Autovainera Batterieträger Mercedes Benz C-Klasse
URL;VALUE=URI:https://www.myauktion.com/versteigerung7661-position2446413-autovainera-batterietraeger-mercedes-benz-c-klasse.php
DESCRIPTION:Verschmutzt & Gebraucht 
UID:myauktion-7661-2446413
BEGIN:VALARM
ACTION:DISPLAY
DESCRIPTION:Verschmutzt & Gebraucht 
TRIGGER:-PT10M
END:VALARM
END:VEVENT
END:VCALENDAR