BEGIN:VCALENDAR
VERSION:2.0
PRODID:-//Goldgrube//myauktion.com//AT
CALSCALE:GREGORIAN
BEGIN:VEVENT
DTSTART:20260506T101900
DTEND:20260506T101930
LOCATION:Gewerbepark 13, 8562 Mooskirchen
DTSTAMP:20260423T153059
SUMMARY:MyAuktion: Ablauf Artikel Nr. 441315 Luftansaugschlauch für einen Mercedes Benz C-Klasse W205
URL;VALUE=URI:https://www.myauktion.com/versteigerung7661-position2446422-luftansaugschlauch-fuer-einen-mercedes-benz-c-klasse-w205.php
DESCRIPTION:Verschmutzt und Gebraucht 
UID:myauktion-7661-2446422
BEGIN:VALARM
ACTION:DISPLAY
DESCRIPTION:Verschmutzt und Gebraucht 
TRIGGER:-PT10M
END:VALARM
END:VEVENT
END:VCALENDAR