BEGIN:VCALENDAR
VERSION:2.0
PRODID:-//Goldgrube//myauktion.com//AT
CALSCALE:GREGORIAN
BEGIN:VEVENT
DTSTART:20260506T102100
DTEND:20260506T102130
LOCATION:Gewerbepark 13, 8562 Mooskirchen
DTSTAMP:20260423T153046
SUMMARY:MyAuktion: Ablauf Artikel Nr. 441318 Hängeelement WZ-0800 800011
URL;VALUE=URI:https://www.myauktion.com/versteigerung7661-position2446425-haengeelement-wz-0800-800011.php
DESCRIPTION:Kiefer massiv, weiß lackiert, Ledergriff, Paket vollständig 
UID:myauktion-7661-2446425
BEGIN:VALARM
ACTION:DISPLAY
DESCRIPTION:Kiefer massiv, weiß lackiert, Ledergriff, Paket vollständig 
TRIGGER:-PT10M
END:VALARM
END:VEVENT
END:VCALENDAR