BEGIN:VCALENDAR
VERSION:2.0
PRODID:-//Goldgrube//myauktion.com//AT
CALSCALE:GREGORIAN
BEGIN:VEVENT
DTSTART:20260506T102200
DTEND:20260506T102230
LOCATION:Gewerbepark 13, 8562 Mooskirchen
DTSTAMP:20260423T153103
SUMMARY:MyAuktion: Ablauf Artikel Nr. 441327 Festo DFM-20-30-P-A-GF 
URL;VALUE=URI:https://www.myauktion.com/versteigerung7661-position2446460-festo-dfm-20-30-p-a-gf.php
DESCRIPTION:
UID:myauktion-7661-2446460
BEGIN:VALARM
ACTION:DISPLAY
DESCRIPTION:
TRIGGER:-PT10M
END:VALARM
END:VEVENT
END:VCALENDAR