BEGIN:VCALENDAR
VERSION:2.0
PRODID:-//Goldgrube//myauktion.com//AT
CALSCALE:GREGORIAN
BEGIN:VEVENT
DTSTART:20260506T102400
DTEND:20260506T102430
LOCATION:Gewerbepark 13, 8562 Mooskirchen
DTSTAMP:20260423T153108
SUMMARY:MyAuktion: Ablauf Artikel Nr. 441334 Diverses Kamerastativ ca 50cm
URL;VALUE=URI:https://www.myauktion.com/versteigerung7661-position2446463-diverses-kamerastativ-ca-50cm.php
DESCRIPTION:
UID:myauktion-7661-2446463
BEGIN:VALARM
ACTION:DISPLAY
DESCRIPTION:
TRIGGER:-PT10M
END:VALARM
END:VEVENT
END:VCALENDAR