BEGIN:VCALENDAR
VERSION:2.0
PRODID:-//Goldgrube//myauktion.com//AT
CALSCALE:GREGORIAN
BEGIN:VEVENT
DTSTART:20260507T130300
DTEND:20260507T130330
LOCATION:Gewerbepark 13, 8562 Mooskirchen
DTSTAMP:20260423T151136
SUMMARY:MyAuktion: Ablauf Artikel Nr. 441289 Nordrive Kargosteel 180cm N10015
URL;VALUE=URI:https://www.myauktion.com/versteigerung7670-position2446469-nordrive-kargosteel-180cm-n10015.php
DESCRIPTION:
UID:myauktion-7670-2446469
BEGIN:VALARM
ACTION:DISPLAY
DESCRIPTION:
TRIGGER:-PT10M
END:VALARM
END:VEVENT
END:VCALENDAR