BEGIN:VCALENDAR
VERSION:2.0
PRODID:-//Goldgrube//myauktion.com//AT
CALSCALE:GREGORIAN
BEGIN:VEVENT
DTSTART:20260507T130500
DTEND:20260507T130530
LOCATION:Gewerbepark 13, 8562 Mooskirchen
DTSTAMP:20260423T151134
SUMMARY:MyAuktion: Ablauf Artikel Nr. 441297 Tonitec Langschildgarnitur Amy PZ Brüniert 302 1704
URL;VALUE=URI:https://www.myauktion.com/versteigerung7670-position2446475-tonitec-langschildgarnitur-amy-pz-brueniert-302-1704.php
DESCRIPTION:
UID:myauktion-7670-2446475
BEGIN:VALARM
ACTION:DISPLAY
DESCRIPTION:
TRIGGER:-PT10M
END:VALARM
END:VEVENT
END:VCALENDAR