BEGIN:VCALENDAR
VERSION:2.0
PRODID:-//Goldgrube//myauktion.com//AT
CALSCALE:GREGORIAN
BEGIN:VEVENT
DTSTART:20260507T145500
DTEND:20260507T145530
LOCATION:Gewerbepark 13, 8562 Mooskirchen
DTSTAMP:20260423T205517
SUMMARY:MyAuktion: Ablauf Artikel Nr. 441712 Seitengitterpolster mit Klett aus Kunstleder 75x190cm 
URL;VALUE=URI:https://www.myauktion.com/versteigerung7670-position2446495-seitengitterpolster-mit-klett-aus-kunstleder-75x190cm.php
DESCRIPTION:
UID:myauktion-7670-2446495
BEGIN:VALARM
ACTION:DISPLAY
DESCRIPTION:
TRIGGER:-PT10M
END:VALARM
END:VEVENT
END:VCALENDAR